BEGIN:VCALENDAR
VERSION:2.0
PRODID:-//ChamberMaster//Event Calendar 2.0//EN
METHOD:PUBLISH
X-PUBLISHED-TTL:P3D
REFRESH-INTERVAL:P3D
CALSCALE:GREGORIAN
BEGIN:VEVENT
DTSTART:20220329T170000Z
DTEND:20220329T180000Z
X-MICROSOFT-CDO-ALLDAYEVENT:FALSE
SUMMARY:Business Connects with Government - Update from State Rep. Shae Sortwell
DESCRIPTION:Join us for an update from State Rep. Shae Sortwell as he discusses legislation at the state level. He will also be on hand to answer questions from Chamber members. \n\n\n\nBusiness Connects with Government is the perfect opportunity to stay abreast of issues at the local\, state and federal levels of government. Both elected and government officials are invited to attend to provide Chamber members with an update from their respective areas of representation.\n\n\n\nBusiness Connects with Government Luncheons provide a venue to inform and educate our community by hosting speakers on topics important to our members. Opinions expressed by speakers do not necessarily reflect the position of The Chamber of Manitowoc County or its members.
X-ALT-DESC;FMTTYPE=text/html:Join us for an update from State Rep. Shae Sortwell as he discusses legislation at the state level.&nbsp\;He will also be on hand to answer questions from Chamber members.&nbsp\;<br />\n<br />\nBusiness Connects with Government is the perfect opportunity to stay abreast of issues at the local\, state and federal levels of government. Both elected and government officials are invited to attend to provide Chamber members with an update from their respective areas of representation.<br />\n<br />\nBusiness Connects with Government Luncheons provide a venue to inform and educate our community by hosting speakers on topics important to our members. Opinions expressed by speakers do not necessarily reflect the position of The Chamber of Manitowoc County or its members.
LOCATION:Via Zoom Link to webinar will be provided in your registration confirmation email. Registration is required.
UID:e.361.17263
SEQUENCE:3
DTSTAMP:20260422T143901Z
URL:https://business.chambermanitowoccounty.org/events/details/business-connects-with-government-update-from-state-rep-shae-sortwell-03-29-2022-17263
END:VEVENT

END:VCALENDAR
