BEGIN:VCALENDAR
VERSION:2.0
PRODID:-//ChamberMaster//Event Calendar 2.0//EN
METHOD:PUBLISH
X-PUBLISHED-TTL:P3D
REFRESH-INTERVAL:P3D
CALSCALE:GREGORIAN
BEGIN:VEVENT
DTSTART:20221010T170000Z
DTEND:20221010T180000Z
X-MICROSOFT-CDO-ALLDAYEVENT:FALSE
SUMMARY:Business Connects with Government Webinar - City of Manitowoc Budget Update
DESCRIPTION:Join us for an update from Manitowoc Mayor Justin Nickels.  Mayor Nickels will provide budget highlights as well as general updates as it pertains to governmental business in the City of Manitowoc. \n\n\n\nBusiness Connects with Government events provide a venue to inform and educate our community by hosting speakers on topics important to our members. Opinions expressed by speakers do not necessarily reflect the position of The Chamber of Manitowoc County or its members.
X-ALT-DESC;FMTTYPE=text/html:<span background-color:="" font-size:="" style="color: rgb(51\, 51\, 51)\; font-family: sans-serif\, Arial\, Verdana\, " trebuchet="">Join us for an update from Manitowoc Mayor Justin Nickels.&nbsp\; Mayor Nickels will provide budget highlights as well as general updates as it pertains to governmental business in the City of Manitowoc.&nbsp\;</span><br font-size:="" style="color: rgb(51\, 51\, 51)\; font-family: sans-serif\, Arial\, Verdana\, " trebuchet="" />\n<br font-size:="" style="color: rgb(51\, 51\, 51)\; font-family: sans-serif\, Arial\, Verdana\, " trebuchet="" />\n<span background-color:="" font-size:="" style="color: rgb(51\, 51\, 51)\; font-family: sans-serif\, Arial\, Verdana\, " trebuchet="">Business Connects with Government events provide a venue to inform and educate our community by hosting speakers on topics important to our members. Opinions expressed by speakers do not necessarily reflect the position of The Chamber of Manitowoc County or its members.</span>
LOCATION:Via Zoom
UID:e.361.18036
SEQUENCE:3
DTSTAMP:20260420T033745Z
URL:https://business.chambermanitowoccounty.org/events/details/business-connects-with-government-webinar-city-of-manitowoc-budget-update-18036
END:VEVENT

END:VCALENDAR
