BEGIN:VCALENDAR
VERSION:2.0
PRODID:-//ChamberMaster//Event Calendar 2.0//EN
METHOD:PUBLISH
X-PUBLISHED-TTL:P3D
REFRESH-INTERVAL:P3D
CALSCALE:GREGORIAN
BEGIN:VEVENT
DTSTART:20221024T170000Z
DTEND:20221024T180000Z
X-MICROSOFT-CDO-ALLDAYEVENT:FALSE
SUMMARY:Business Connects with Government Webinar - Manitowoc County Budget Update
DESCRIPTION:Join us for an update from Manitowoc County Executive Bob Ziegelbauer.  County Executive Ziegelbauer will provide budget highlights as well as general updates as it pertains to governmental business in Manitowoc County. \n\n\n\nBusiness Connects with Government is the perfect opportunity to stay abreast of issues at the local\, state and federal levels of government. Both elected and government officials are invited to attend to provide Chamber members with an update from their respective areas of representation.
X-ALT-DESC;FMTTYPE=text/html:<span style="color: rgb(51\, 51\, 51)\; font-family: sans-serif\, Arial\, Verdana\, &quot\;Trebuchet MS&quot\;\; font-size: 13px\; background-color: rgb(255\, 255\, 255)\;">Join us for an update from Manitowoc County Executive Bob Ziegelbauer.&nbsp\; County Executive Ziegelbauer will provide budget highlights as well as general updates as it pertains to governmental business in Manitowoc County.&nbsp\;</span><br style="color: rgb(51\, 51\, 51)\; font-family: sans-serif\, Arial\, Verdana\, &quot\;Trebuchet MS&quot\;\; font-size: 13px\;" />\n<br style="color: rgb(51\, 51\, 51)\; font-family: sans-serif\, Arial\, Verdana\, &quot\;Trebuchet MS&quot\;\; font-size: 13px\;" />\n<span style="color: rgb(51\, 51\, 51)\; font-family: sans-serif\, Arial\, Verdana\, &quot\;Trebuchet MS&quot\;\; font-size: 13px\; background-color: rgb(255\, 255\, 255)\;">Business Connects with Government is the perfect opportunity to stay abreast of issues at the local\, state and federal levels of government. Both elected and government officials are invited to attend to provide Chamber members with an update from their respective areas of representation.</span>
LOCATION:Via Zoom
UID:e.361.18037
SEQUENCE:3
DTSTAMP:20260420T033612Z
URL:https://business.chambermanitowoccounty.org/events/details/business-connects-with-government-webinar-manitowoc-county-budget-update-18037
END:VEVENT

END:VCALENDAR
