BEGIN:VCALENDAR
VERSION:2.0
PRODID:-//ChamberMaster//Event Calendar 2.0//EN
METHOD:PUBLISH
X-PUBLISHED-TTL:P3D
REFRESH-INTERVAL:P3D
CALSCALE:GREGORIAN
BEGIN:VEVENT
DTSTART:20220315T170000Z
DTEND:20220315T180000Z
X-MICROSOFT-CDO-ALLDAYEVENT:FALSE
SUMMARY:Business Connects with Government: Wisconsin Economic Update
DESCRIPTION:Dennis Winters will present on the current state of Wisconsin's economy and workforce\, and answer questions.   \n\n\n\nDennis Winters is the Chief Economist at the Wisconsin Department of Workforce Development\, He is also the Director of the Bureau of Workforce Information and Technical Support\, and Labor Market Information Director.\n\n\n\nDennis has expertise in economic analysis\, modeling and forecasting\; encompassing everything from designing commodity derivative strategies to long-term policy initiative scenario assessments. Mr. Winters' areas of focus include regional and national macroeconomics\, energy and labor markets\, and economic impact analysis.\n\n\n\nBusiness Connects with Government is the perfect opportunity to stay abreast of issues at the local\, state and federal levels of government. Both elected and government officials are invited to attend to provide Chamber members with an update from their respective areas of representation.\n\n\n\nBusiness Connects with Government Luncheons provide a venue to inform and educate our community by hosting speakers on topics important to our members. Opinions expressed by speakers do not necessarily reflect the position of The Chamber of Manitowoc County or its members.
X-ALT-DESC;FMTTYPE=text/html:<span style="font-family:arial\,sans-serif\;">Dennis Winters will present on the current state of Wisconsin&#39\;s economy and workforce\, and answer questions.&nbsp\; &nbsp\;</span><br />\n<br />\nDennis Winters is the Chief Economist at the Wisconsin Department of Workforce Development\, He is also the Director of the Bureau of Workforce Information and Technical Support\, and Labor Market Information Director.<br />\n<br />\nDennis has expertise in economic analysis\, modeling and forecasting\; encompassing everything from designing commodity derivative strategies to long-term policy initiative scenario assessments. Mr. Winters&#39\; areas of focus include regional and national macroeconomics\, energy and labor markets\, and economic impact analysis.<br />\n<br />\n<span background-color:="" font-size:="" style="color: rgb(51\, 51\, 51)\; font-family: sans-serif\, Arial\, Verdana\, " trebuchet="">Business Connects with Government is the perfect opportunity to stay abreast of issues at the local\, state and federal levels of government. Both elected and government officials are invited to attend to provide Chamber members with an update from their respective areas of representation.</span><br font-size:="" style="color: rgb(51\, 51\, 51)\; font-family: sans-serif\, Arial\, Verdana\, " trebuchet="" />\n<br font-size:="" style="color: rgb(51\, 51\, 51)\; font-family: sans-serif\, Arial\, Verdana\, " trebuchet="" />\n<span background-color:="" font-size:="" style="color: rgb(51\, 51\, 51)\; font-family: sans-serif\, Arial\, Verdana\, " trebuchet="">Business Connects with Government Luncheons provide a venue to inform and educate our community by hosting speakers on topics important to our members. Opinions expressed by speakers do not necessarily reflect the position of The Chamber of Manitowoc County or its members.</span>
LOCATION:Via Zoom Zoom link will be provided in registration confirmation email.
UID:e.361.17253
SEQUENCE:3
DTSTAMP:20260422T143759Z
URL:https://business.chambermanitowoccounty.org/events/details/business-connects-with-government-wisconsin-economic-update-17253
END:VEVENT

END:VCALENDAR
