BEGIN:VCALENDAR
VERSION:2.0
PRODID:-//ChamberMaster//Event Calendar 2.0//EN
METHOD:PUBLISH
X-PUBLISHED-TTL:P3D
REFRESH-INTERVAL:P3D
CALSCALE:GREGORIAN
BEGIN:VEVENT
DTSTART:20210106T180000Z
DTEND:20210106T183000Z
X-MICROSOFT-CDO-ALLDAYEVENT:FALSE
SUMMARY:Business Management and Marketing
DESCRIPTION:Business Management and Administration Administrative Support \nBusiness Information Management \n\nMarketing Communications \nMarketing Management \n\nMarketing Research\n\nMerchandising Professional Sales
X-ALT-DESC;FMTTYPE=text/html:Business Management and Administration Administrative Support&nbsp\;\n<div>Business Information Management&nbsp\;<br />\nMarketing Communications&nbsp\;\n<div>Marketing Management&nbsp\;</div>\n\n<div>Marketing Research<br />\nMerchandising Professional Sales</div>\n</div>\n
LOCATION:
UID:e.361.15827
SEQUENCE:3
DTSTAMP:20260424T200859Z
URL:https://business.chambermanitowoccounty.org/events/details/business-management-and-marketing-15827
END:VEVENT

END:VCALENDAR
