BEGIN:VCALENDAR
VERSION:2.0
PRODID:-//ChamberMaster//Event Calendar 2.0//EN
METHOD:PUBLISH
X-PUBLISHED-TTL:P3D
REFRESH-INTERVAL:P3D
CALSCALE:GREGORIAN
BEGIN:VEVENT
DTSTART:20260319T233000Z
DTEND:20260320T010000Z
X-MICROSOFT-CDO-ALLDAYEVENT:FALSE
SUMMARY:Candidates Forum
DESCRIPTION:The Chamber of Manitowoc County\, along with the Two Rivers Business Association and League of Women Voters-Manitowoc County are collaborating to provide a Candidates Forum for the candidates running for Two Rivers City Council.  Confirmed candidates include:\n\n	Katherine Dahlke\n	Adam Wachowski\n	Bonnie Shimulunas\n	Shawntel L. Hoffman\n	Darla LeClair\n\nThis forum will provide an opportunity to hear directly from candidates about their positions on key issues in a structured and facilitated format.\n\n\n\nCandidate Forums provide a venue to inform and educate our community by hosting speakers on topics important to our members. Opinions expressed by speakers and/or candidates do not necessarily reflect the position of The Chamber of Manitowoc County or its members.
X-ALT-DESC;FMTTYPE=text/html:<span style="font-family:arial\;"><span style="font-size:14px\;">The Chamber of Manitowoc County\, along with the Two Rivers Business Association and League of Women Voters-Manitowoc County are collaborating to provide a Candidates Forum for the candidates running for Two Rivers City Council.&nbsp\;&nbsp\;Confirmed candidates include:</span></span>\n<ul>\n	<li><span style="font-family:arial\;"><span style="font-size:14px\;">Katherine Dahlke</span></span></li>\n	<li><span style="font-family:arial\;"><span style="font-size:14px\;">Adam Wachowski</span></span></li>\n	<li><span style="font-family:arial\;"><span style="font-size:14px\;">Bonnie Shimulunas</span></span></li>\n	<li><span style="font-family:arial\;"><span style="font-size:14px\;">Shawntel L. Hoffman</span></span></li>\n	<li><span style="font-family:arial\;"><span style="font-size:14px\;">Darla LeClair</span></span></li>\n</ul>\n<span style="font-family:arial\;"><span style="font-size:14px\;">This forum will provide an opportunity to hear directly from candidates about their positions on key issues in a structured and facilitated format.</span></span><br />\n<br />\n<em>Candidate Forums provide a venue to inform and educate our community by hosting speakers on topics important to our members. Opinions expressed by speakers and/or candidates do not necessarily reflect the position of The Chamber of Manitowoc County or its members.</em>
LOCATION:Two Rivers City Hall - Council Chambers 1717 Park Street Two Rivers
UID:e.361.20692
SEQUENCE:3
DTSTAMP:20260421T134137Z
URL:https://business.chambermanitowoccounty.org/events/details/candidates-forum-03-19-2026-20692
END:VEVENT

END:VCALENDAR
