BEGIN:VCALENDAR
VERSION:2.0
PRODID:-//ChamberMaster//Event Calendar 2.0//EN
METHOD:PUBLISH
X-PUBLISHED-TTL:P3D
REFRESH-INTERVAL:P3D
CALSCALE:GREGORIAN
BEGIN:VEVENT
DTSTART;VALUE=DATE:20200108
DTEND;VALUE=DATE:20200109
TRANSP:TRANSPARENT
X-MICROSOFT-CDO-ALLDAYEVENT:TRUE
SUMMARY:Career Expo
DESCRIPTION:The Chamber of Manitowoc County\, in cooperation with the Manitowoc County public and private high schools\, University of Wisconsin Green Bay-Manitowoc Campus\, Lakeshore Technical College\, and Holy Family College\, are currently planning the 2020 Career Expo. The event\, hosted this year by Lakeshore Technical College\, gives students the opportunity to learn about career opportunities\, career planning\, and future employment opportunities in Manitowoc County. Approximately 1\,000 high school students gather to explore careers and gain employability skills\, each year thanks to the numerous volunteer and businesses who help make this happen.\n\n \n\nIf you are interested in being a speaker for a career cluster. Please register today! Our students would love to hear from you.
X-ALT-DESC;FMTTYPE=text/html:<p align="left" style="color: rgb(51\, 51\, 51)\; font-family: Roboto\, sans-serif\; font-size: 13px\; background-color: rgb(255\, 255\, 255)\;"><span style="font-size:14px\;">The Chamber of Manitowoc County\, in cooperation&nbsp\;with the Manitowoc County public and private high&nbsp\;schools\, University of Wisconsin Green Bay-Manitowoc Campus\, Lakeshore Technical College\,&nbsp\;and Holy Family College\, are currently planning the 2020&nbsp\;Career Expo. The event\, hosted this year by&nbsp\;<b>Lakeshore&nbsp\;</b><b>Technical College</b>\, gives students the opportunity to&nbsp\;</span><font size="4"><span style="font-size:14px\;">learn about career opportunities\, career planning\, and&nbsp\;future employment opportunities in Manitowoc County. Approximately 1\,000 high school students gather to explore careers and gain employability skills\, each year thanks to the numerous volunteer and businesses who help make this happen.</span></font><br />\n&nbsp\;</p>\n\n<p align="left" style="color: rgb(51\, 51\, 51)\; font-family: Roboto\, sans-serif\; font-size: 13px\; background-color: rgb(255\, 255\, 255)\;"><span style="font-size:14px\;">If you are interested in being a speaker for a career cluster. Please register today! Our students would love to hear from you.</span></p>\n
LOCATION:Lakeshore Technical College 1290 North Ave. Cleveland 53015
UID:e.361.14852
SEQUENCE:3
DTSTAMP:20260425T105255Z
URL:https://business.chambermanitowoccounty.org/events/details/career-expo-14852
END:VEVENT

END:VCALENDAR
