BEGIN:VCALENDAR
VERSION:2.0
PRODID:-//ChamberMaster//Event Calendar 2.0//EN
METHOD:PUBLISH
X-PUBLISHED-TTL:P3D
REFRESH-INTERVAL:P3D
CALSCALE:GREGORIAN
BEGIN:VEVENT
DTSTART:20191212T133000Z
DTEND:20191212T143000Z
X-MICROSOFT-CDO-ALLDAYEVENT:FALSE
SUMMARY:Career Expo Meeting
DESCRIPTION:Nametags\, schedules\, final instructions
X-ALT-DESC;FMTTYPE=text/html:Nametags\, schedules\, final instructions
LOCATION:The Chamber 1515 Memorial Dr.\, Manitowoc
UID:e.361.14841
SEQUENCE:3
DTSTAMP:20260425T131438Z
URL:https://business.chambermanitowoccounty.org/events/details/career-expo-meeting-14841
END:VEVENT

END:VCALENDAR
