BEGIN:VCALENDAR
VERSION:2.0
PRODID:-//ChamberMaster//Event Calendar 2.0//EN
METHOD:PUBLISH
X-PUBLISHED-TTL:P3D
REFRESH-INTERVAL:P3D
CALSCALE:GREGORIAN
BEGIN:VEVENT
DTSTART:20201013T190000Z
DTEND:20201013T190000Z
X-MICROSOFT-CDO-ALLDAYEVENT:FALSE
SUMMARY:Career Expo/Partners in Education Meeting
DESCRIPTION:Career Expo Planning Meeting Via zoom \n\nKaren Nichols is inviting you to a scheduled Zoom meeting.\n\n \n\nJoin Zoom Meeting\n\nhttps://zoom.us/j/96772823845?pwd=Z2ZIVGlVK3lSTXNUc09Tcm9tVU00Zz09\n\n \n\nMeeting ID: 967 7282 3845\n\nPasscode: 753086\n\nOne tap mobile\n\n+19292056099\,\,96772823845#\,\,\,\,\,\,0#\,\,753086# US (New York)\n\n+13017158592\,\,96772823845#\,\,\,\,\,\,0#\,\,753086# US (Germantown)\n\n \n\nDial by your location\n\n        +1 929 205 6099 US (New York)\n\n        +1 301 715 8592 US (Germantown)\n\n        +1 312 626 6799 US (Chicago)\n\n        +1 669 900 6833 US (San Jose)\n\n        +1 253 215 8782 US (Tacoma)\n\n        +1 346 248 7799 US (Houston)\n\nMeeting ID: 967 7282 3845\n\nPasscode: 753086\n\nFind your local number: https://zoom.us/u/abjrnAYaz2
X-ALT-DESC;FMTTYPE=text/html:Career Expo Planning Meeting Via zoom&nbsp\;<br />\nKaren Nichols is inviting you to a scheduled Zoom meeting.<br />\n&nbsp\;<br />\nJoin Zoom Meeting<br />\n<a href="https://zoom.us/j/96772823845?pwd=Z2ZIVGlVK3lSTXNUc09Tcm9tVU00Zz09">https://zoom.us/j/96772823845?pwd=Z2ZIVGlVK3lSTXNUc09Tcm9tVU00Zz09</a><br />\n&nbsp\;<br />\nMeeting ID: 967 7282 3845<br />\nPasscode: 753086<br />\nOne tap mobile<br />\n+19292056099\,\,96772823845#\,\,\,\,\,\,0#\,\,753086# US (New York)<br />\n+13017158592\,\,96772823845#\,\,\,\,\,\,0#\,\,753086# US (Germantown)<br />\n&nbsp\;<br />\nDial by your location<br />\n&nbsp\;&nbsp\;&nbsp\;&nbsp\;&nbsp\;&nbsp\;&nbsp\; +1 929 205 6099 US (New York)<br />\n&nbsp\;&nbsp\;&nbsp\;&nbsp\;&nbsp\;&nbsp\;&nbsp\; +1 301 715 8592 US (Germantown)<br />\n&nbsp\;&nbsp\;&nbsp\;&nbsp\;&nbsp\;&nbsp\;&nbsp\; +1 312 626 6799 US (Chicago)<br />\n&nbsp\;&nbsp\;&nbsp\;&nbsp\;&nbsp\;&nbsp\;&nbsp\; +1 669 900 6833 US (San Jose)<br />\n&nbsp\;&nbsp\;&nbsp\;&nbsp\;&nbsp\;&nbsp\;&nbsp\; +1 253 215 8782 US (Tacoma)<br />\n&nbsp\;&nbsp\;&nbsp\;&nbsp\;&nbsp\;&nbsp\;&nbsp\; +1 346 248 7799 US (Houston)<br />\nMeeting ID: 967 7282 3845<br />\nPasscode: 753086<br />\nFind your local number: <a href="https://zoom.us/u/abjrnAYaz2">https://zoom.us/u/abjrnAYaz2</a><br />\n&nbsp\;
LOCATION:
UID:e.361.15601
SEQUENCE:3
DTSTAMP:20260424T232748Z
URL:https://business.chambermanitowoccounty.org/events/details/career-expo-partners-in-education-meeting-15601
END:VEVENT

END:VCALENDAR
