BEGIN:VCALENDAR
VERSION:2.0
PRODID:-//ChamberMaster//Event Calendar 2.0//EN
METHOD:PUBLISH
X-PUBLISHED-TTL:P3D
REFRESH-INTERVAL:P3D
CALSCALE:GREGORIAN
BEGIN:VEVENT
DTSTART:20201208T200000Z
DTEND:20201208T210000Z
X-MICROSOFT-CDO-ALLDAYEVENT:FALSE
SUMMARY:Career Expo/Partners in Education Meeting
DESCRIPTION:Career Expo Meeting via Zoom \n\nJoin Zoom Meeting\n\nhttps://zoom.us/j/93120979496?pwd=UkFrZjNNMHp4c085NlRYaXhkaDZQUT09
X-ALT-DESC;FMTTYPE=text/html:Career Expo Meeting via Zoom&nbsp\;<br />\nJoin Zoom Meeting<br />\n<a href="https://zoom.us/j/93120979496?pwd=UkFrZjNNMHp4c085NlRYaXhkaDZQUT09">https://zoom.us/j/93120979496?pwd=UkFrZjNNMHp4c085NlRYaXhkaDZQUT09</a><br />\n<br />\n&nbsp\;
LOCATION:
UID:e.361.15847
SEQUENCE:3
DTSTAMP:20260424T211532Z
URL:https://business.chambermanitowoccounty.org/events/details/career-expo-partners-in-education-meeting-15847
END:VEVENT

END:VCALENDAR
