BEGIN:VCALENDAR
VERSION:2.0
PRODID:-//ChamberMaster//Event Calendar 2.0//EN
METHOD:PUBLISH
X-PUBLISHED-TTL:P3D
REFRESH-INTERVAL:P3D
CALSCALE:GREGORIAN
BEGIN:VEVENT
DTSTART:20200810T180000Z
DTEND:20200810T190000Z
X-MICROSOFT-CDO-ALLDAYEVENT:FALSE
SUMMARY:Career Expo Planning Meeting (MCPIE)
DESCRIPTION:Career Expo Planning Meeting
X-ALT-DESC;FMTTYPE=text/html:Career Expo Planning Meeting<br />\n&nbsp\;
LOCATION:
UID:e.361.15016
SEQUENCE:3
DTSTAMP:20260425T020438Z
URL:https://business.chambermanitowoccounty.org/events/details/career-expo-planning-meeting-mcpie-15016
END:VEVENT

END:VCALENDAR
