BEGIN:VCALENDAR
VERSION:2.0
PRODID:-//ChamberMaster//Event Calendar 2.0//EN
METHOD:PUBLISH
X-PUBLISHED-TTL:P3D
REFRESH-INTERVAL:P3D
CALSCALE:GREGORIAN
BEGIN:VEVENT
DTSTART:20190514T150000Z
DTEND:20190514T160000Z
X-MICROSOFT-CDO-ALLDAYEVENT:FALSE
SUMMARY:Caregiver Fatigue
DESCRIPTION:Sharon S. Richardson Community Hospice will be presenting on "My Caregiving Journey." We will discuss caregiver fatigue and learn about ways to restore balance by caring for ourselves and receiving support and renewal. RSVP's are appreciated to community@ssrhospicehome.org or call 683-4100.
X-ALT-DESC;FMTTYPE=text/html:Sharon S. Richardson Community Hospice will be presenting on &quot\;My Caregiving Journey.&quot\; We will discuss caregiver fatigue and learn about ways to restore balance by caring for ourselves and receiving support and renewal. RSVP&#39\;s are appreciated to community@ssrhospicehome.org or call 683-4100.
LOCATION:Manitowoc Health and Rehabilitation Center 2021 S. Alverno Rd. Manitowoc\, WI 54220
UID:e.361.14132
SEQUENCE:3
DTSTAMP:20260425T203136Z
URL:https://business.chambermanitowoccounty.org/events/details/caregiver-fatigue-14132
END:VEVENT

END:VCALENDAR
