BEGIN:VCALENDAR
VERSION:2.0
PRODID:-//ChamberMaster//Event Calendar 2.0//EN
METHOD:PUBLISH
X-PUBLISHED-TTL:P3D
REFRESH-INTERVAL:P3D
CALSCALE:GREGORIAN
BEGIN:VEVENT
DTSTART;VALUE=DATE:20100422
DTEND;VALUE=DATE:20100423
TRANSP:TRANSPARENT
X-MICROSOFT-CDO-ALLDAYEVENT:TRUE
SUMMARY:CASA Day at Subway
DESCRIPTION:Eat at a participating Subway restaurant and support the Manitowoc County CASA Program! 10% off all daily sales will be donated to support the CASA Program\, at the following subway locations: \n\n\n\n1011 South 10th Street\, Manitowoc                                 \n\n4115 Calumet Ave-Wal*Mart Supercenter                   \n\n2012 Dufek Drive\, Manitowoc\n\n1400 Washington Street\, Two Rivers \n\n219 E Main Street\, Mishicot
X-ALT-DESC;FMTTYPE=text/html:Eat at a participating Subway restaurant and support the Manitowoc County CASA Program! 10% off all daily sales will be donated to support the CASA Program\, at the following subway locations: \n<br>\n<br>1011 South 10th Street\, Manitowoc                                 \n<br>4115 Calumet Ave-Wal*Mart Supercenter                   \n<br>2012 Dufek Drive\, Manitowoc\n<br>1400 Washington Street\, Two Rivers \n<br>219 E Main Street\, Mishicot\n<br>
LOCATION:1011 South 10th Street\, Manitowoc 4115 Calumet Ave-Wal*Mart Supercenter 2012 Dufek Drive\, Manitowoc 1400 Washington Street\, Two Rivers 219 E Main Street\, Mishicot
UID:e.361.2220
SEQUENCE:3
DTSTAMP:20260422T053846Z
URL:https://business.chambermanitowoccounty.org/events/details/casa-day-at-subway-04-22-2010-2220
END:VEVENT

END:VCALENDAR
