BEGIN:VCALENDAR
VERSION:2.0
PRODID:-//ChamberMaster//Event Calendar 2.0//EN
METHOD:PUBLISH
X-PUBLISHED-TTL:P3D
REFRESH-INTERVAL:P3D
CALSCALE:GREGORIAN
BEGIN:VEVENT
DTSTART:20230604T130000Z
DTEND:20230604T170000Z
X-MICROSOFT-CDO-ALLDAYEVENT:FALSE
SUMMARY:Caveman Adventure Run
DESCRIPTION:This family friendly 5K\, set in a historic park\, includes challenging natural and man-made obstacles\, mud and CAVES! Join us Sunday\, June 4th at Cherney Maribel Caves County Park. Visit ACTIVE.com for details and to register online: https://www.active.com/maribel-wi/running/races/caveman-adventure-run-2023 Funds raised from the run support Lakeshore Community Health Care's mission to provide affordable dental\, medical and mental health care\, regardless of a patient's income or insurance status.
X-ALT-DESC;FMTTYPE=text/html:This family friendly 5K\, set in a historic park\, includes challenging natural and man-made obstacles\, mud and CAVES! Join us Sunday\, June 4th at Cherney Maribel Caves County Park. Visit ACTIVE.com for details and to register online: https://www.active.com/maribel-wi/running/races/caveman-adventure-run-2023 Funds raised from the run support Lakeshore Community Health Care&#39\;s mission to provide affordable dental\, medical and mental health care\, regardless of a patient&rsquo\;s income or insurance status.
LOCATION:Cherney Maribel Caves County Park: 15401 County Rd R\, Maribel\, WI 54227
UID:e.361.18891
SEQUENCE:3
DTSTAMP:20260419T160305Z
URL:https://business.chambermanitowoccounty.org/events/details/caveman-adventure-run-18891
END:VEVENT

END:VCALENDAR
