BEGIN:VCALENDAR
VERSION:2.0
PRODID:-//ChamberMaster//Event Calendar 2.0//EN
METHOD:PUBLISH
X-PUBLISHED-TTL:P3D
REFRESH-INTERVAL:P3D
CALSCALE:GREGORIAN
BEGIN:VEVENT
DTSTART:20190915T130000Z
DTEND:20190915T180000Z
X-MICROSOFT-CDO-ALLDAYEVENT:FALSE
SUMMARY:Caveman Adventure Run 5K
DESCRIPTION:This family friendly 5K\, set in a historic park\, includes challenging natural and man-made obstacles\, mud and CAVES! This family friendly 5K\, set in a historic park\, includes challenging natural and man-made obstacles\, mud and CAVES! A special run for children under 10 begins at 10 am. All participants will receive a finisher medal\, event t-shirt and food after the run. Costumes are encouraged. Funds raised from the run support Lakeshore Community Health Care's mission to provide affordable dental\, medical and behavioral health care\, regardless of a patient's income or insurance status.
X-ALT-DESC;FMTTYPE=text/html:This family friendly 5K\, set in a historic park\, includes challenging natural and man-made obstacles\, mud and CAVES! This family friendly 5K\, set in a historic park\, includes challenging natural and man-made obstacles\, mud and CAVES! A special run for children under 10 begins at 10 am. All participants will receive a finisher medal\, event t-shirt and food after the run. Costumes are encouraged. Funds raised from the run support Lakeshore Community Health Care&#39\;s mission to provide affordable dental\, medical and behavioral health care\, regardless of a patient&rsquo\;s income or insurance status.
LOCATION:Cherney Maribel Caves County Park
UID:e.361.14319
SEQUENCE:3
DTSTAMP:20260425T155059Z
URL:https://business.chambermanitowoccounty.org/events/details/caveman-adventure-run-5k-09-15-2019-14319
END:VEVENT

END:VCALENDAR
