BEGIN:VCALENDAR
VERSION:2.0
PRODID:-//ChamberMaster//Event Calendar 2.0//EN
METHOD:PUBLISH
X-PUBLISHED-TTL:P3D
REFRESH-INTERVAL:P3D
CALSCALE:GREGORIAN
BEGIN:VEVENT
DTSTART:20211006T170000Z
DTEND:20211006T180000Z
X-MICROSOFT-CDO-ALLDAYEVENT:FALSE
SUMMARY:Chamber Business Book Club
DESCRIPTION:Do you like to read? Do you like to network? \n\n\n\nThe Chamber of Manitowoc County along with the Manitowoc Public Library and Lester Public Library are pleased to announce a brand new program\; Chamber Business Book Club! The Book Club will start October 6\, 2021 and will meet the first Wednesday of every month from noon until 1:00 pm where you can discuss the book you've been reading with other participants in the program. There will be a limit of 15 participants and there is no cost. All you need is to be a Chamber member and a library card. Each month you will sign up for the book. If you don't like the next month's book\, skip that month and sign up the following month. It's a month to month commitment.\n\n\n\nBook discussions will be held in the Balkansky BC room at the Manitowoc Public Library.\n\n\n\nThe first book\, which can be picked up at either library at the beginning of September will be "Grit: The Power and Perseverance" by Angel Duckworth.
X-ALT-DESC;FMTTYPE=text/html:<span style="font-family: Roboto\, sans-serif\;">Do you like to read? Do you like to network?&nbsp\;</span><br style="font-family: Roboto\, sans-serif\;" />\n<br style="font-family: Roboto\, sans-serif\;" />\n<span style="font-family: Roboto\, sans-serif\;">The Chamber of Manitowoc County along with the Manitowoc Public Library and Lester Public Library are pleased to announce a brand new program\; Chamber Business Book Club! The Book Club will start October 6\, 2021 and will meet the first Wednesday of every month from noon until 1:00 pm where you can discuss the book you&#39\;ve been reading with other participants in the program. There will be a limit of 15 participants and there is no cost. All you need is to be a Chamber member and a library card. Each month you will sign up for the book. If you don&#39\;t like the next month&#39\;s book\, skip that month and sign up the following month.</span><span background-color:="" font-size:="" style="font-family: Roboto\, sans-serif\;" trebuchet="">&nbsp\;It&#39\;s a month to month commitment.</span><br style="font-family: Roboto\, sans-serif\;" />\n<br style="font-family: Roboto\, sans-serif\;" />\n<span style="font-family: Roboto\, sans-serif\;">Book discussions will be held in the Balkansky BC room at the Manitowoc Public Library.</span><br style="font-family: Roboto\, sans-serif\;" />\n<br style="font-family: Roboto\, sans-serif\;" />\n<span style="font-family: Roboto\, sans-serif\;">The first book\, which can be picked up at either library at the beginning of September will be &quot\;Grit: The Power and Perseverance&quot\; by Angel Duckworth.</span><br style="font-family: Roboto\, sans-serif\;" />\n<br style="font-family: Roboto\, sans-serif\;" />\n&nbsp\;
LOCATION:Manitowoc Public Library Lester Public Library
UID:e.361.16507
SEQUENCE:3
DTSTAMP:20260422T212403Z
URL:https://business.chambermanitowoccounty.org/events/details/chamber-business-book-club-16507
END:VEVENT

END:VCALENDAR
