BEGIN:VCALENDAR
VERSION:2.0
PRODID:-//ChamberMaster//Event Calendar 2.0//EN
METHOD:PUBLISH
X-PUBLISHED-TTL:P3D
REFRESH-INTERVAL:P3D
CALSCALE:GREGORIAN
BEGIN:VEVENT
DTSTART:20211103T170000Z
DTEND:20211103T180000Z
X-MICROSOFT-CDO-ALLDAYEVENT:FALSE
SUMMARY:Chamber Business Book Club- November
DESCRIPTION:Join us to discuss the book Thinking\, Fast and Slow by Daniel Kahneman\n\nThe book can be picked up at the front desk of the Manitowoc Public Library or Two Rivers Lester Public Library.\n\n \n\nIn Thinking\, Fast and Slow\, Daniel Kahneman\, the renowned psychologist and winner of the Nobel Prize in Economics\, takes us on a groundbreaking tour of the mind and explains the two systems that drive the way we think. \n\n\n\n \n\n\n\nSystem 1 is fast\, intuitive\, and emotional\; System 2 is slower\, more deliberative\, and more logical. The impact of overconfidence on corporate strategies\, the difficulties of predicting what will make us happy in the future\, the profound effect of cognitive biases on everything from playing the stock market to planning our next vacation each of these can be understood only by knowing how the two systems shape our judgments and decisions.\n\n\n\n \n\n\n\nEngaging the reader in a lively conversation about how we think\, Kahneman reveals where we can and cannot trust our intuitions and how we can tap into the benefits of slow thinking. He offers practical and enlightening insights into how choices are made in both our business and our personal lives and how we can use different techniques to guard against the mental glitches that often get us into trouble.
X-ALT-DESC;FMTTYPE=text/html:Join us to discuss the book <em>Thinking\, Fast and Slow</em> by Daniel Kahneman<br />\nThe book can be picked up at the front desk of the Manitowoc Public Library or Two Rivers Lester Public Library.<br />\n&nbsp\;\n<div style="margin: 0px\; padding: 0px\; border: 0px\; font-variant-numeric: inherit\; font-variant-east-asian: inherit\; font-stretch: inherit\; font-size: 15px\; line-height: inherit\; font-family: &quot\;Segoe UI&quot\;\, &quot\;Segoe UI Web (West European)&quot\;\, &quot\;Segoe UI&quot\;\, -apple-system\, BlinkMacSystemFont\, Roboto\, &quot\;Helvetica Neue&quot\;\, sans-serif\; vertical-align: baseline\; color: rgb(0\, 0\, 0)\;">\n<p style="font-size: 11pt\; font-family: Calibri\, sans-serif\; margin: 0px\;"><span style="font-size:12px\;"><span style="font-family:arial\;"><span style="margin: 0px\; padding: 0px\; border: 0px\; font-style: inherit\; font-variant: inherit\; font-weight: inherit\; font-stretch: inherit\; line-height: inherit\; vertical-align: baseline\; color: inherit\;">In<i>&nbsp\;Thinking\, Fast and Slow</i>\, Daniel Kahneman\, the renowned psychologist and winner of the Nobel Prize in Economics\, takes us on a groundbreaking tour of the mind and explains the two systems that drive the way we think.&nbsp\;</span></span></span></p>\n</div>\n\n<div style="margin: 0px\; padding: 0px\; border: 0px\; font-variant-numeric: inherit\; font-variant-east-asian: inherit\; font-stretch: inherit\; font-size: 15px\; line-height: inherit\; font-family: &quot\;Segoe UI&quot\;\, &quot\;Segoe UI Web (West European)&quot\;\, &quot\;Segoe UI&quot\;\, -apple-system\, BlinkMacSystemFont\, Roboto\, &quot\;Helvetica Neue&quot\;\, sans-serif\; vertical-align: baseline\; color: rgb(0\, 0\, 0)\;">\n<p style="font-size: 11pt\; font-family: Calibri\, sans-serif\; margin: 0px\;"><span style="font-size:12px\;"><span style="font-family:arial\;"><span style="margin: 0px\; padding: 0px\; border: 0px\; font-style: inherit\; font-variant: inherit\; font-weight: inherit\; font-stretch: inherit\; line-height: inherit\; vertical-align: baseline\; color: inherit\;">&nbsp\;</span></span></span></p>\n</div>\n\n<div style="margin: 0px\; padding: 0px\; border: 0px\; font-variant-numeric: inherit\; font-variant-east-asian: inherit\; font-stretch: inherit\; font-size: 15px\; line-height: inherit\; font-family: &quot\;Segoe UI&quot\;\, &quot\;Segoe UI Web (West European)&quot\;\, &quot\;Segoe UI&quot\;\, -apple-system\, BlinkMacSystemFont\, Roboto\, &quot\;Helvetica Neue&quot\;\, sans-serif\; vertical-align: baseline\; color: rgb(0\, 0\, 0)\;">\n<p style="font-size: 11pt\; font-family: Calibri\, sans-serif\; margin: 0px\;"><span style="font-size:12px\;"><span style="font-family:arial\;"><span style="margin: 0px\; padding: 0px\; border: 0px\; font-style: inherit\; font-variant: inherit\; font-weight: inherit\; font-stretch: inherit\; line-height: inherit\; vertical-align: baseline\; color: inherit\;">System 1 is fast\, intuitive\, and emotional\; System 2 is slower\, more deliberative\, and more logical. The impact of overconfidence on corporate strategies\, the difficulties of predicting what will make us happy in the future\, the profound effect of cognitive biases on everything from playing the stock market to planning our next vacation&#8213\;each of these can be understood only by knowing how the two systems shape our judgments and decisions.</span></span></span></p>\n</div>\n\n<div style="margin: 0px\; padding: 0px\; border: 0px\; font-variant-numeric: inherit\; font-variant-east-asian: inherit\; font-stretch: inherit\; font-size: 15px\; line-height: inherit\; font-family: &quot\;Segoe UI&quot\;\, &quot\;Segoe UI Web (West European)&quot\;\, &quot\;Segoe UI&quot\;\, -apple-system\, BlinkMacSystemFont\, Roboto\, &quot\;Helvetica Neue&quot\;\, sans-serif\; vertical-align: baseline\; color: rgb(0\, 0\, 0)\;">\n<p style="font-size: 11pt\; font-family: Calibri\, sans-serif\; margin: 0px\;"><span style="font-size:12px\;"><span style="font-family:arial\;"><span style="margin: 0px\; padding: 0px\; border: 0px\; font-style: inherit\; font-variant: inherit\; font-weight: inherit\; font-stretch: inherit\; line-height: inherit\; vertical-align: baseline\; color: inherit\;">&nbsp\;</span></span></span></p>\n</div>\n\n<div style="margin: 0px\; padding: 0px\; border: 0px\; font-variant-numeric: inherit\; font-variant-east-asian: inherit\; font-stretch: inherit\; font-size: 15px\; line-height: inherit\; font-family: &quot\;Segoe UI&quot\;\, &quot\;Segoe UI Web (West European)&quot\;\, &quot\;Segoe UI&quot\;\, -apple-system\, BlinkMacSystemFont\, Roboto\, &quot\;Helvetica Neue&quot\;\, sans-serif\; vertical-align: baseline\; color: rgb(0\, 0\, 0)\;">\n<p style="font-size: 11pt\; font-family: Calibri\, sans-serif\; margin: 0px\;"><span style="font-size:12px\;"><span style="font-family:arial\;"><span style="margin: 0px\; padding: 0px\; border: 0px\; font-style: inherit\; font-variant: inherit\; font-weight: inherit\; font-stretch: inherit\; line-height: inherit\; vertical-align: baseline\; color: inherit\;">Engaging the reader in a lively conversation about how we think\, Kahneman reveals where we can and cannot trust our intuitions and how we can tap into the benefits of slow thinking. He offers practical and enlightening insights into how choices are made in both our business and our personal lives&#8213\;and how we can use different techniques to guard against the mental glitches that often get us into trouble.</span></span></span></p>\n</div>\n
LOCATION:Chamber of Manitowoc County Conference Room 1515 Memorial Dr.
UID:e.361.16791
SEQUENCE:3
DTSTAMP:20260422T195351Z
URL:https://business.chambermanitowoccounty.org/events/details/chamber-business-book-club-november-16791
END:VEVENT

END:VCALENDAR
