BEGIN:VCALENDAR
VERSION:2.0
PRODID:-//ChamberMaster//Event Calendar 2.0//EN
METHOD:PUBLISH
X-PUBLISHED-TTL:P3D
REFRESH-INTERVAL:P3D
CALSCALE:GREGORIAN
BEGIN:VEVENT
DTSTART:20221206T223000Z
DTEND:20221207T003000Z
X-MICROSOFT-CDO-ALLDAYEVENT:FALSE
SUMMARY:Chamber Holiday Reception
DESCRIPTION:Join us to celebrate the holiday season with Chamber members at the Holiday Reception. \n\n\n\nPlease consider brining a donation of an unused toy or book to be donated to The Salvation Army. \n\n\n\nMembers may also bring a door prize to be raffled off as well. \n\n\n\n50/50 Raffle
X-ALT-DESC;FMTTYPE=text/html:Join us to celebrate the holiday season with Chamber members at the Holiday Reception.&nbsp\;<br />\n<br />\nPlease consider brining a donation of an unused toy or book to be donated to The Salvation Army.&nbsp\;<br />\n<br />\nMembers may also bring a door prize to be raffled off as well.&nbsp\;<br />\n<br />\n50/50 Raffle
LOCATION:Time Out Sports Bar & Grill 1027 N. Rapids Rd. Manitowoc
UID:e.361.18039
SEQUENCE:3
DTSTAMP:20260420T004140Z
URL:https://business.chambermanitowoccounty.org/events/details/chamber-holiday-reception-12-06-2022-18039
END:VEVENT

END:VCALENDAR
