BEGIN:VCALENDAR
VERSION:2.0
PRODID:-//ChamberMaster//Event Calendar 2.0//EN
METHOD:PUBLISH
X-PUBLISHED-TTL:P3D
REFRESH-INTERVAL:P3D
CALSCALE:GREGORIAN
BEGIN:VEVENT
DTSTART:20220214T180000Z
DTEND:20220214T184500Z
X-MICROSOFT-CDO-ALLDAYEVENT:FALSE
SUMMARY:Chamber Webinar: Federal Wage and Hour Refresher – The Essentials!
DESCRIPTION:Federal Wage and Hour Refresher   The Essentials!\n\nThe U.S. Department of Labor-Wage and Hour Division (WHD) receives questions from a lot of employers related to compensable hours issues under the Fair Labor Standards Act: When must meal breaks be paid?  Are pre-shift and post-shift activities compensable?  What about travel time for deliveries or time spent in training or meetings?  This webinar will provide the answers to these and other important questions being asked by many employers everywhere.  And as a bonus\, the session will also provide critical guidance on which employees are exempt from overtime and what factors are used by DOL-WHD to identify those that aren't.  Bring all of your wage-hour questions to this Fair Labor Standards Act   Hours Worked Refresher! \n\n\n\n\n\nAbout the Speaker:\n\nCorey Walton\n\nCommunity Outreach and Resource Planning Specialist\n\nU.S. Department of Labor\, Wage-Hour Division\n\n\n\nCorey Walton has been with the U.S. Department of Labor/Wage-Hour Division since 1997.  He spent 15 years as an investigator investigating hundreds of cases under several laws including the Fair Labor Standards Act\, Davis-Bacon and the Family Medical Leave Act.  Over the past ten years\, Corey has served as the Community Outreach & Resource Planning Specialist (CORPS) in Wage and Hour's Minneapolis District Office.  In that capacity\, Corey spends most of his time organizing and conducting DOL educational and training events throughout the states of Wisconsin and Minnesota.
X-ALT-DESC;FMTTYPE=text/html:<strong><em><u>Federal Wage and Hour Refresher &ndash\; The Essentials!</u></em></strong><br />\n<em>The U.S. Department of Labor-Wage and Hour Division (WHD) receives questions from a lot of employers related to compensable hours issues under the Fair Labor Standards Act: When must meal breaks be paid?&nbsp\; Are pre-shift and post-shift activities compensable?&nbsp\; What about travel time for deliveries or time spent in training or meetings?&nbsp\; This webinar will provide the answers to these and other important questions being asked by many employers everywhere.&nbsp\; And as a bonus\, the session will also provide critical guidance on which employees are exempt from overtime and what factors are used by DOL-WHD to identify those that aren&rsquo\;t.&nbsp\; Bring all of your wage-hour questions to this Fair Labor Standards Act &ndash\; Hours Worked Refresher!&nbsp\;</em><br />\n<br />\n<br />\n<strong>About the Speaker:</strong><br />\nCorey Walton<br />\nCommunity Outreach and Resource Planning Specialist<br />\nU.S. Department of Labor\, Wage-Hour Division<br />\n<br />\nCorey Walton has been with the U.S. Department of Labor/Wage-Hour Division since 1997.&nbsp\; He spent 15 years as an investigator investigating hundreds of cases under several laws including the Fair Labor Standards Act\, Davis-Bacon and the Family Medical Leave Act.&nbsp\; Over the past ten years\, Corey has served as the Community Outreach &amp\; Resource Planning Specialist (CORPS) in Wage and Hour&rsquo\;s Minneapolis District Office.&nbsp\; In that capacity\, Corey spends most of his time organizing and conducting DOL educational and training events throughout the states of Wisconsin and Minnesota.&nbsp\;<br />\n<br />\n<br />\n&nbsp\;
LOCATION:Via Microsoft Teams Link in Confirmation Registration Email
UID:e.361.17244
SEQUENCE:3
DTSTAMP:20260422T161016Z
URL:https://business.chambermanitowoccounty.org/events/details/chamber-webinar-federal-wage-and-hour-refresher-the-essentials-17244
END:VEVENT

END:VCALENDAR
