BEGIN:VCALENDAR
VERSION:2.0
PRODID:-//ChamberMaster//Event Calendar 2.0//EN
METHOD:PUBLISH
X-PUBLISHED-TTL:P3D
REFRESH-INTERVAL:P3D
CALSCALE:GREGORIAN
BEGIN:VEVENT
DTSTART:20181201T220000Z
DTEND:20181202T030000Z
X-MICROSOFT-CDO-ALLDAYEVENT:FALSE
SUMMARY:Christmas at Sinawa
DESCRIPTION:Enjoy this festive annual event! There will be: Lighted Trails (bring a flashlight for darker trails)\, 12 Decorated Cabins\, Santa\, Sleigh Rides\, Christmas Cookies\, Carolers\, Hot Cider\, Hot Chocolate\, Hot Dogs\, Chili Take the bus! Leave the driving to Valders Buses! (Limited parking at Camp) Shuttle bus available from Christel's Piggly Wiggly in Valders\, on the hour starting at 4 p.m.
X-ALT-DESC;FMTTYPE=text/html:Enjoy this festive annual event! There will be: Lighted Trails (bring a flashlight for darker trails)\, 12 Decorated Cabins\, Santa\, Sleigh Rides\, Christmas Cookies\, Carolers\, Hot Cider\, Hot Chocolate\, Hot Dogs\, Chili Take the bus! Leave the driving to Valders Buses! (Limited parking at Camp) Shuttle bus available from Christel&#39\;s Piggly Wiggly in Valders\, on the hour starting at 4 p.m.
LOCATION:9113 Sinawa Road Valders\, WI 54245
UID:e.361.13645
SEQUENCE:3
DTSTAMP:20260426T022148Z
URL:https://business.chambermanitowoccounty.org/events/details/christmas-at-sinawa-12-01-2018-13645
END:VEVENT

END:VCALENDAR
