BEGIN:VCALENDAR
VERSION:2.0
PRODID:-//ChamberMaster//Event Calendar 2.0//EN
METHOD:PUBLISH
X-PUBLISHED-TTL:P3D
REFRESH-INTERVAL:P3D
CALSCALE:GREGORIAN
BEGIN:VEVENT
DTSTART:20191207T220000Z
DTEND:20191209T030000Z
X-MICROSOFT-CDO-ALLDAYEVENT:FALSE
SUMMARY:Christmas at Sinawa
DESCRIPTION:Come on out to Christmas at Sinawa! Saturday\, December\, 7th\, 4:00PM to 9:00PM & Sunday\, December\, 8th\, 4:00PM to 8:00PM Camp Sinawa\, 9113 Sinawa Road\, Valders\, WI! Enjoy this festive annual event! There will be: Lighted Trails (bring a flashlight for darker trails)\, 12 Decorated Cabins\, Sleigh Rides\, Hot Chocolate\, Hot Cider Christmas Cookies\, Hot Dogs\, Chili\, Carolers....and Santa! Take the bus! Leave the driving to Valders Buses! Shuttle bus available to & from Christel's Piggly Wiggly in Valders\, on the hour starting at 4 p.m. (Limited parking at Camp) Donation: Adults $5\, 6 & Under $4 or $20 per Carload For questions Call: 920-758-2615 Or visit: www.campsinawa.com Facebook Event: www.facebook.com/events/381043252841500/
X-ALT-DESC;FMTTYPE=text/html:Come on out to Christmas at Sinawa! Saturday\, December\, 7th\, 4:00PM to 9:00PM &amp\; Sunday\, December\, 8th\, 4:00PM to 8:00PM Camp Sinawa\, 9113 Sinawa Road\, Valders\, WI! Enjoy this festive annual event! There will be: Lighted Trails (bring a flashlight for darker trails)\, 12 Decorated Cabins\, Sleigh Rides\, Hot Chocolate\, Hot Cider Christmas Cookies\, Hot Dogs\, Chili\, Carolers....and Santa! Take the bus! Leave the driving to Valders Buses! Shuttle bus available to &amp\; from Christel&#39\;s Piggly Wiggly in Valders\, on the hour starting at 4 p.m. (Limited parking at Camp) Donation: Adults $5\, 6 &amp\; Under $4 or $20 per Carload For questions Call: 920-758-2615 Or visit: www.campsinawa.com Facebook Event: www.facebook.com/events/381043252841500/
LOCATION:Camp Sinawa\, 9113 Sinawa Road\, Valders\, WI
UID:e.361.14839
SEQUENCE:3
DTSTAMP:20260425T131509Z
URL:https://business.chambermanitowoccounty.org/events/details/christmas-at-sinawa-12-07-2019-14839
END:VEVENT

END:VCALENDAR
