BEGIN:VCALENDAR
VERSION:2.0
PRODID:-//ChamberMaster//Event Calendar 2.0//EN
METHOD:PUBLISH
X-PUBLISHED-TTL:P3D
REFRESH-INTERVAL:P3D
CALSCALE:GREGORIAN
BEGIN:VEVENT
DTSTART:20190419T210000Z
DTEND:20190420T010000Z
X-MICROSOFT-CDO-ALLDAYEVENT:FALSE
SUMMARY:City of Two Rivers 8th Annual Fish Boil
DESCRIPTION:8th Annual Fish Boil\n\nSponsored by Two Rivers Firefighters Local 423
X-ALT-DESC;FMTTYPE=text/html:8th Annual Fish Boil<br />\nSponsored by Two Rivers Firefighters Local 423<br />\n&nbsp\;
LOCATION:Two Rivers Fire Station 2122 Monroe St.\, Two Rivers
UID:e.361.14109
SEQUENCE:3
DTSTAMP:20260425T215501Z
URL:https://business.chambermanitowoccounty.org/events/details/city-of-two-rivers-8th-annual-fish-boil-14109
END:VEVENT

END:VCALENDAR
