BEGIN:VCALENDAR
VERSION:2.0
PRODID:-//ChamberMaster//Event Calendar 2.0//EN
METHOD:PUBLISH
X-PUBLISHED-TTL:P3D
REFRESH-INTERVAL:P3D
CALSCALE:GREGORIAN
BEGIN:VEVENT
DTSTART:20190803T150000Z
DTEND:20190803T210000Z
X-MICROSOFT-CDO-ALLDAYEVENT:FALSE
SUMMARY:Cleveland Lions Car Show
DESCRIPTION:Cleveland Lions Car Show and Craft Fair
X-ALT-DESC;FMTTYPE=text/html:Cleveland Lions Car Show and Craft Fair
LOCATION:Dairyland Park\, Cleveland Wisconsin
UID:e.361.13765
SEQUENCE:3
DTSTAMP:20260425T170853Z
URL:https://business.chambermanitowoccounty.org/events/details/cleveland-lions-car-show-13765
END:VEVENT

END:VCALENDAR
