BEGIN:VCALENDAR
VERSION:2.0
PRODID:-//ChamberMaster//Event Calendar 2.0//EN
METHOD:PUBLISH
X-PUBLISHED-TTL:P3D
REFRESH-INTERVAL:P3D
CALSCALE:GREGORIAN
BEGIN:VEVENT
DTSTART:20181014T220000Z
DTEND:20181015T010000Z
X-MICROSOFT-CDO-ALLDAYEVENT:FALSE
SUMMARY:Clipper City Chordsmen Cabaret Diner and Show
DESCRIPTION:9th Annual Cabaret Dinner and Show featuring the Clipper City Chordsmen and chapter quartets. Ticket includes full chicken dinner buffet and show.
X-ALT-DESC;FMTTYPE=text/html:9th Annual Cabaret Dinner and Show featuring the Clipper City Chordsmen and chapter quartets. Ticket includes full chicken dinner buffet and show.
LOCATION:Twin fountains Banquet Hall\, 7330 English Lake Rd\, Manitowoc
UID:e.361.13581
SEQUENCE:3
DTSTAMP:20260426T043440Z
URL:https://business.chambermanitowoccounty.org/events/details/clipper-city-chordsmen-cabaret-diner-and-show-13581
END:VEVENT

END:VCALENDAR
