BEGIN:VCALENDAR
VERSION:2.0
PRODID:-//ChamberMaster//Event Calendar 2.0//EN
METHOD:PUBLISH
X-PUBLISHED-TTL:P3D
REFRESH-INTERVAL:P3D
CALSCALE:GREGORIAN
BEGIN:VEVENT
DTSTART:20211009T150000Z
DTEND:20211009T180000Z
X-MICROSOFT-CDO-ALLDAYEVENT:FALSE
SUMMARY:Clipper City Model RR Club Open House
DESCRIPTION:Clipper City Model Railroad October Open House Saturday 10/9/21 from 10a -1pm. https://clippercitymodelrailroadclub.org/
X-ALT-DESC;FMTTYPE=text/html:Clipper City Model Railroad October Open House Saturday 10/9/21 from 10a -1pm. https://clippercitymodelrailroadclub.org/
LOCATION:5201 Vista Road\, Manitowoc\, 54220 Expo Fair Grounds
UID:e.361.16789
SEQUENCE:3
DTSTAMP:20260422T224816Z
URL:https://business.chambermanitowoccounty.org/events/details/clipper-city-model-rr-club-open-house-16789
END:VEVENT

END:VCALENDAR
