BEGIN:VCALENDAR
VERSION:2.0
PRODID:-//ChamberMaster//Event Calendar 2.0//EN
METHOD:PUBLISH
X-PUBLISHED-TTL:P3D
REFRESH-INTERVAL:P3D
CALSCALE:GREGORIAN
BEGIN:VEVENT
DTSTART:20191012T003000Z
DTEND:20191012T030000Z
X-MICROSOFT-CDO-ALLDAYEVENT:FALSE
SUMMARY:Colbie Caillat featuring Gone West
DESCRIPTION:SPONSORED BY PLENCO - PLASTICS ENGINEERING COMPANY Doors open: 6:30 p.m. VIP PACKAGES: To purchase VIP tickets\, please call (920-208-3243) or visit the ticket office (826 N 8th St) - One premium reserved ticket - VIP early venue entry - Exclusive pre-show meet & greet with Gone West - Personal photograph with Gone West - Private and intimate pre-show acoustic performance - Q&A - Limited edition tour poster autographed by Gone West - Official meet & greet laminate - Limited availability ABOUT GONE WEST: Gone West is a new Nashville-based band featuring 2-Time Grammy Award Winner Colbie Caillat\, multi-platinum singer/songwriter Jason Reeves\, 4-time Hawaii Music Award Winner Justin Kawika Young and ACM and CMT nominated artist Nelly Joy.
X-ALT-DESC;FMTTYPE=text/html:SPONSORED BY PLENCO - PLASTICS ENGINEERING COMPANY Doors open: 6:30 p.m. VIP PACKAGES: To purchase VIP tickets\, please call (920-208-3243) or visit the ticket office (826 N 8th St) - One premium reserved ticket - VIP early venue entry - Exclusive pre-show meet &amp\; greet with Gone West - Personal photograph with Gone West - Private and intimate pre-show acoustic performance - Q&amp\;A - Limited edition tour poster autographed by Gone West - Official meet &amp\; greet laminate - Limited availability ABOUT GONE WEST: Gone West is a new Nashville-based band featuring 2-Time Grammy Award Winner Colbie Caillat\, multi-platinum singer/songwriter Jason Reeves\, 4-time Hawaii Music Award Winner Justin Kawika Young and ACM and CMT nominated artist Nelly Joy.
LOCATION:
UID:e.361.14440
SEQUENCE:3
DTSTAMP:20260425T143241Z
URL:https://business.chambermanitowoccounty.org/events/details/colbie-caillat-featuring-gone-west-14440
END:VEVENT

END:VCALENDAR
