BEGIN:VCALENDAR
VERSION:2.0
PRODID:-//ChamberMaster//Event Calendar 2.0//EN
METHOD:PUBLISH
X-PUBLISHED-TTL:P3D
REFRESH-INTERVAL:P3D
CALSCALE:GREGORIAN
BEGIN:VEVENT
DTSTART:20230301T000000Z
DTEND:20230301T013000Z
X-MICROSOFT-CDO-ALLDAYEVENT:FALSE
SUMMARY:Community Meeting: Childcare Needs & Workforce Impact
DESCRIPTION:Community Report: Understanding Childcare Needs & Workforce Impact in Manitowoc County\n\n\n\nDean Halverson\, CEO of Leede Research\, will be presenting the most recent Childcare in Manitowoc County survey results. The study was designed to better understand the childcare needs of families in Manitowoc County and how those needs may impact workforce participation and availability.
X-ALT-DESC;FMTTYPE=text/html:<em><strong>Community Report: Understanding Childcare Needs &amp\; Workforce Impact in Manitowoc County</strong></em><br />\n<br />\nDean Halverson\, CEO of Leede Research\, will be presenting the most recent Childcare in Manitowoc County survey results. The study was designed to better understand the childcare needs of families in Manitowoc County and how those needs may impact workforce participation and availability.
LOCATION:Manitowoc Public Library Balkansky Community Room 707 Quay St. Manitowoc
UID:e.361.18631
SEQUENCE:3
DTSTAMP:20260419T220639Z
URL:https://business.chambermanitowoccounty.org/events/details/community-meeting-childcare-needs-workforce-impact-18631
END:VEVENT

END:VCALENDAR
