BEGIN:VCALENDAR
VERSION:2.0
PRODID:-//ChamberMaster//Event Calendar 2.0//EN
METHOD:PUBLISH
X-PUBLISHED-TTL:P3D
REFRESH-INTERVAL:P3D
CALSCALE:GREGORIAN
BEGIN:VEVENT
DTSTART:20190427T140000Z
DTEND:20190427T170000Z
X-MICROSOFT-CDO-ALLDAYEVENT:FALSE
SUMMARY:Crick Crossing 5k
DESCRIPTION:The Francis Creek Lion's Club is holding the fourth annual "Crick Crossing" on April 27th\, 2019. The event will be held at Pla-Mor park in Francis Creek\, WI and will prominently feature the Devil's River State Recreational Trail. The run/walk is USATF certified and is chip timed! Proceeds going to benefit the Francis Creek First Responders and Francis Creek Fire Department as well as diabetes and eyesight awareness. Kids welcome and separate medal categories for those under 14. Register online at https://www.raceentry.com/race/crick-crossing-5k/2019/dashboard
X-ALT-DESC;FMTTYPE=text/html:The Francis Creek Lion&#39\;s Club is holding the fourth annual &quot\;Crick Crossing&quot\; on April 27th\, 2019. The event will be held at Pla-Mor park in Francis Creek\, WI and will prominently feature the Devil&#39\;s River State Recreational Trail. The run/walk is USATF certified and is chip timed! Proceeds going to benefit the Francis Creek First Responders and Francis Creek Fire Department as well as diabetes and eyesight awareness. Kids welcome and separate medal categories for those under 14. Register online at https://www.raceentry.com/race/crick-crossing-5k/2019/dashboard
LOCATION:Pla Mor Park in Francis Creek
UID:e.361.13749
SEQUENCE:3
DTSTAMP:20260425T214834Z
URL:https://business.chambermanitowoccounty.org/events/details/crick-crossing-5k-04-27-2019-13749
END:VEVENT

END:VCALENDAR
