BEGIN:VCALENDAR
VERSION:2.0
PRODID:-//ChamberMaster//Event Calendar 2.0//EN
METHOD:PUBLISH
X-PUBLISHED-TTL:P3D
REFRESH-INTERVAL:P3D
CALSCALE:GREGORIAN
BEGIN:VEVENT
DTSTART:20211219T013000Z
DTEND:20211219T033000Z
X-MICROSOFT-CDO-ALLDAYEVENT:FALSE
SUMMARY:Dean Z's Rockin' Christmas Show
DESCRIPTION:Get ready for something spectacular! It's Dean Z's Rockin Christmas Show! Award-winning and internationally acclaimed entertainer Dean Z\, sings your favorite rockin' holiday hits! Featuring his high-energy 12 piece band and the beautiful Deltatones! Spanning Christmas standards made famous by Chuck Berry\, Elvis Presley\, Brenda Lee\, Brian Setzer\, The Ronettes & much much more! The best Rock'n'Roll\, Rockabilly and Swing Christmas classics\, guaranteed to rock you into the holiday spirit! So tune in\, and turn up the retro holiday cheer with Dean Z's Rockin' Christmas Show!
X-ALT-DESC;FMTTYPE=text/html:Get ready for something spectacular! It&rsquo\;s Dean Z&rsquo\;s Rockin Christmas Show! Award-winning and internationally acclaimed entertainer Dean Z\, sings your favorite rockin&rsquo\; holiday hits! Featuring his high-energy 12 piece band and the beautiful Deltatones! Spanning Christmas standards made famous by Chuck Berry\, Elvis Presley\, Brenda Lee\, Brian Setzer\, The Ronettes &amp\; much much more! The best Rock&lsquo\;n&rsquo\;Roll\, Rockabilly and Swing Christmas classics\, guaranteed to rock you into the holiday spirit! So tune in\, and turn up the retro holiday cheer with Dean Z&rsquo\;s Rockin&rsquo\; Christmas Show!
LOCATION:Weill Center
UID:e.361.17008
SEQUENCE:3
DTSTAMP:20260422T182630Z
URL:https://business.chambermanitowoccounty.org/events/details/dean-z-s-rockin-christmas-show-17008
END:VEVENT

END:VCALENDAR
