BEGIN:VCALENDAR
VERSION:2.0
PRODID:-//ChamberMaster//Event Calendar 2.0//EN
METHOD:PUBLISH
X-PUBLISHED-TTL:P3D
REFRESH-INTERVAL:P3D
CALSCALE:GREGORIAN
BEGIN:VEVENT
DTSTART:20190518T003000Z
DTEND:20190526T030000Z
X-MICROSOFT-CDO-ALLDAYEVENT:FALSE
SUMMARY:Death of A Salesman
DESCRIPTION:The last days of Willy Loman\, a failing salesman\, who cannot understand how he failed to win success and happiness. One of the most profound classic dramas of the American theatre.
X-ALT-DESC;FMTTYPE=text/html:The last days of Willy Loman\, a failing salesman\, who cannot understand how he failed to win success and happiness. One of the most profound classic dramas of the American theatre.
LOCATION:The Forst Inn E2910 County Road BB Tisch Mills
UID:e.361.14303
SEQUENCE:3
DTSTAMP:20260425T203320Z
URL:https://business.chambermanitowoccounty.org/events/details/death-of-a-salesman-14303
END:VEVENT

END:VCALENDAR
