BEGIN:VCALENDAR
VERSION:2.0
PRODID:-//ChamberMaster//Event Calendar 2.0//EN
METHOD:PUBLISH
X-PUBLISHED-TTL:P3D
REFRESH-INTERVAL:P3D
CALSCALE:GREGORIAN
BEGIN:VEVENT
DTSTART:20230731T140000Z
DTEND:20230731T163000Z
X-MICROSOFT-CDO-ALLDAYEVENT:FALSE
SUMMARY:Department of Workforce Development Employment Assistance @ Manitowoc Public Library
DESCRIPTION:In this ongoing program taking place weekly on Monday and Tuesday mornings from 9-11:30 AM MPL has teamed up with Department of Workforce Development staff to provide FREE onsite services in MPL's Franklin Street Room for individuals looking to enter (or re-enter) the job market. Services include resume writing\, assistance with online applications\, assistance registering in Job Center of Wisconsin\, and more! No appointment needed just drop in! For future program dates beyond the month of April\, head to www.manitowoclibrary.org/events.
X-ALT-DESC;FMTTYPE=text/html:<span style="font-family:times new roman\,serif"><span style="font-size:12.0pt">In this ongoing program&mdash\;taking place weekly on Monday and Tuesday mornings from 9-11:30 AM&mdash\;MPL has teamed up with </span></span><span style="font-family:times new roman\,serif"><span style="font-size:12pt">Department of Workforce Development staff to provide FREE onsite services in MPL&rsquo\;s Franklin Street Room for individuals looking to enter (or re-enter) the job market. Services include resume writing\, assistance with online applications\, assistance registering in Job Center of Wisconsin\, and more! </span></span><span style="font-family:times new roman\,serif"><span style="font-size:12pt">No appointment needed&mdash\;just drop in! For future program dates beyond the month of April\, head to </span></span><span style="font-family:times new roman\,serif"><span style="font-size:12.0pt"><a href="http://www.manitowoclibrary.org/events">www.manitowoclibrary.org/events</a></span></span><span style="font-family:times new roman\,serif"><span style="font-size:12pt">.</span></span>
LOCATION:Manitowoc Public Library Franklin Street Room 707 Quay Street Manitowoc\, WI 54220
UID:e.361.17426
SEQUENCE:3
DTSTAMP:20260419T160922Z
URL:https://business.chambermanitowoccounty.org/events/details/department-of-workforce-development-employment-assistance-manitowoc-public-library-07-31-2023-17426
END:VEVENT

END:VCALENDAR
