BEGIN:VCALENDAR
VERSION:2.0
PRODID:-//ChamberMaster//Event Calendar 2.0//EN
METHOD:PUBLISH
X-PUBLISHED-TTL:P3D
REFRESH-INTERVAL:P3D
CALSCALE:GREGORIAN
BEGIN:VEVENT
DTSTART:20260506T230000Z
DTEND:20260507T003000Z
X-MICROSOFT-CDO-ALLDAYEVENT:FALSE
SUMMARY:Drop-In Chess Club @ MPL
DESCRIPTION:Want to improve your memory and concentration or practice logical thinking skills? Make a smart move and join us for Drop-In Chess Club at Manitowoc Public Library's Second Floor Balkansky Community Room from 6-7:30 PM on Wednesday\, May 6! The game of chess offers many brainy benefits and it's just fun! Those of all abilities and ages (6-years plus\, please) are welcome\, but staff will not offer formal instruction. Chessboards provided and library materials are available for further learning. No registration is required\, but please remember that children under the age of 8 (even prodigies!) must be accompanied by a parent or guardian at all times.
X-ALT-DESC;FMTTYPE=text/html:<span style="color:rgb(5\, 5\, 5)\; font-family:times new roman\,serif\; font-size:12pt">Want to improve your memory and concentration or practice logical thinking skills? Make a smart move and join us for Drop-In Chess Club at Manitowoc Public Library&rsquo\;s Second Floor Balkansky Community Room from 6-7:30 PM on Wednesday\, May 6! The game of chess offers many brainy benefits&mdash\;and it&#39\;s just fun! Those of all abilities and ages (6-years plus\, please) are welcome\, but staff will not offer formal instruction. Chessboards provided and library materials are available for further learning. No registration is required\, but please remember that children under the age of 8 (even prodigies!) must be accompanied by a parent or guardian at all times.</span>
LOCATION:Manitowoc Public Library Balkansky Community Room 707 Quay Street Manitowoc\, WI 5422
UID:e.361.20806
SEQUENCE:3
DTSTAMP:20260423T182630Z
URL:https://business.chambermanitowoccounty.org/events/details/drop-in-chess-club-mpl-05-06-2026-20806
END:VEVENT

END:VCALENDAR
