BEGIN:VCALENDAR
VERSION:2.0
PRODID:-//ChamberMaster//Event Calendar 2.0//EN
METHOD:PUBLISH
X-PUBLISHED-TTL:P3D
REFRESH-INTERVAL:P3D
CALSCALE:GREGORIAN
BEGIN:VEVENT
DTSTART:20230704T150000Z
DTEND:20230704T160000Z
X-MICROSOFT-CDO-ALLDAYEVENT:FALSE
SUMMARY:Early Stage Support Group
DESCRIPTION:Support groups provide an opportunity for people with an early stage dementia diagnosis\, family\, friends\, caregivers and others to meet regularly for mutual emotional support and to exchange coping skills with one another in matters relating to dementia. This group is open to all ages and is a safe space for caregivers & care recipients to converse freely. All support groups are confidential. Prior to your first visit\, a one time pre-screen is required. A pre-screen ensures that we can provide the best experience to your care recipient. Please call (877) 416-7083 to make an appointment.
X-ALT-DESC;FMTTYPE=text/html:Support groups provide an opportunity for people with an early stage dementia diagnosis\, family\, friends\, caregivers and others to meet regularly for mutual emotional support and to exchange coping skills with one another in matters relating to dementia. This group is open to all ages and is a safe space for caregivers &amp\; care recipients to converse freely. All support groups are confidential. Prior to your first visit\, a one time pre-screen is required. A pre-screen ensures that we can provide the best experience to your care recipient. Please call (877) 416-7083 to make an appointment.
LOCATION:ADRC of the Lakeshore 1701 Michigan Ave Manitowoc\, WI 54220 Lower Level Lakeshore Room
UID:e.361.14001
SEQUENCE:3
DTSTAMP:20260419T143343Z
URL:https://business.chambermanitowoccounty.org/events/details/early-stage-support-group-07-04-2023-14001
END:VEVENT

END:VCALENDAR
