BEGIN:VCALENDAR
VERSION:2.0
PRODID:-//ChamberMaster//Event Calendar 2.0//EN
METHOD:PUBLISH
X-PUBLISHED-TTL:P3D
REFRESH-INTERVAL:P3D
CALSCALE:GREGORIAN
BEGIN:VEVENT
DTSTART:20230422T140000Z
DTEND:20230422T180000Z
X-MICROSOFT-CDO-ALLDAYEVENT:FALSE
SUMMARY:Earth Day Celebration
DESCRIPTION:Come celebrate Earth Day at the Farm Wisconsin Discovery Center on Saturday\, April 22 from 9:00 am to 1:00 pm! This year's event will feature Robotics in Agriculture\, showcasing the latest technology that is changing the way farmers work. Visitors will have the opportunity to see an automated milking trailer\, and learn how it benefits cows and farmers alike. They'll also discover the importance of cover crops and rainfall for sustainable agriculture. Alice in Dairyland will be on visiting to lead a fun activity where guests can make pollinator bombs\, a great way to support bees and other essential pollinators. All activities are included in the price of admission\, making this a great day out for the whole family. Don't miss the chance to learn about the cutting-edge technology that is revolutionizing farming practices and helping to protect our planet.
X-ALT-DESC;FMTTYPE=text/html:Come celebrate Earth Day at the Farm Wisconsin Discovery Center on Saturday\, April 22 from 9:00 am to 1:00 pm! This year&rsquo\;s event will feature Robotics in Agriculture\, showcasing the latest technology that is changing the way farmers work. Visitors will have the opportunity to see an automated milking trailer\, and learn how it benefits cows and farmers alike. They&rsquo\;ll also discover the importance of cover crops and rainfall for sustainable agriculture. Alice in Dairyland will be on visiting to lead a fun activity where guests can make pollinator bombs\, a great way to support bees and other essential pollinators. All activities are included in the price of admission\, making this a great day out for the whole family. Don&rsquo\;t miss the chance to learn about the cutting-edge technology that is revolutionizing farming practices and helping to protect our planet.
LOCATION:Farm Wisconsin Discovery Center 7001 Gass Lake Rd. Manitowoc\, WI 54220
UID:e.361.18874
SEQUENCE:3
DTSTAMP:20260419T190417Z
URL:https://business.chambermanitowoccounty.org/events/details/earth-day-celebration-18874
END:VEVENT

END:VCALENDAR
