BEGIN:VCALENDAR
VERSION:2.0
PRODID:-//ChamberMaster//Event Calendar 2.0//EN
METHOD:PUBLISH
X-PUBLISHED-TTL:P3D
REFRESH-INTERVAL:P3D
CALSCALE:GREGORIAN
BEGIN:VEVENT
DTSTART:20230408T140000Z
DTEND:20230408T180000Z
X-MICROSOFT-CDO-ALLDAYEVENT:FALSE
SUMMARY:Easter Brunch at Farm Wisconsin
DESCRIPTION:Celebrate Easter with family and friends at the Farm Wisconsin Discovery Center! Join us for an Easter Brunch on Saturday\, April 8 from 9:00 am to 1:00 pm. Enjoy a delicious brunch\, participate in an egg hunt\, meet the Easter bunny\, visit with baby chicks\, & more! Don't miss out on the fun\, tickets are available now!
X-ALT-DESC;FMTTYPE=text/html:Celebrate Easter with family and friends at the Farm Wisconsin Discovery Center! Join us for an Easter Brunch on Saturday\, April 8 from 9:00 am to 1:00 pm. Enjoy a delicious brunch\, participate in an egg hunt\, meet the Easter bunny\, visit with baby chicks\, &amp\; more! Don&#39\;t miss out on the fun\, tickets are available now!
LOCATION:Farm Wisconsin Discovery Center 7001 Gass Lake Rd.\, Manitowoc\, WI 54220
UID:e.361.18668
SEQUENCE:3
DTSTAMP:20260419T190608Z
URL:https://business.chambermanitowoccounty.org/events/details/easter-brunch-at-farm-wisconsin-18668
END:VEVENT

END:VCALENDAR
