BEGIN:VCALENDAR
VERSION:2.0
PRODID:-//ChamberMaster//Event Calendar 2.0//EN
METHOD:PUBLISH
X-PUBLISHED-TTL:P3D
REFRESH-INTERVAL:P3D
CALSCALE:GREGORIAN
BEGIN:VEVENT
DTSTART:20220112T201500Z
DTEND:20220112T204500Z
X-MICROSOFT-CDO-ALLDAYEVENT:FALSE
SUMMARY:Employability Skills Career Expo
DESCRIPTION:
X-ALT-DESC;FMTTYPE=text/html:
LOCATION:
UID:e.361.17167
SEQUENCE:3
DTSTAMP:20260422T172643Z
URL:https://business.chambermanitowoccounty.org/events/details/employability-skills-career-expo-17167
END:VEVENT

END:VCALENDAR
