BEGIN:VCALENDAR
VERSION:2.0
PRODID:-//ChamberMaster//Event Calendar 2.0//EN
METHOD:PUBLISH
X-PUBLISHED-TTL:P3D
REFRESH-INTERVAL:P3D
CALSCALE:GREGORIAN
BEGIN:VEVENT
DTSTART:20231010T160000Z
DTEND:20231010T230000Z
X-MICROSOFT-CDO-ALLDAYEVENT:FALSE
SUMMARY:Fall Festival of Food and Fellowship
DESCRIPTION:Painting Pathways is celebrating "15 years" of serving our community\, along with "World Mental Health Day" on Tuesday\, October 10th. Please stop down for some delicious food and great conversation. We will be serving Brats\, Burgers\, Chili Bar\, Cake and Fruit Cobbler.- all by donation! Money raised will go toward extra storage for our outdoor maintenance and garden supplies. We are also storing member items as they transition from hospitalization or homelessness. Entertainment provided by the group Else\,if Else.Fall Harvest items will be available by donation.\n\nThank you Manitowoc County for seeing the value in how we advocate for\, and serve adults navigating their mental health and well being.
X-ALT-DESC;FMTTYPE=text/html:Painting Pathways is celebrating &quot\;15 years&quot\; of serving our community\, along with &quot\;World Mental Health Day&quot\; on Tuesday\, October 10th. Please stop down for some delicious food and great conversation. We will be serving Brats\, Burgers\, Chili Bar\, Cake and Fruit Cobbler.- all by donation! Money raised will go toward extra storage for our outdoor maintenance and garden supplies. We are also storing member items as they transition from hospitalization or homelessness. Entertainment provided by the group Else\,if Else.Fall Harvest items will be available by donation.<br />\nThank you Manitowoc County for seeing the value in how we advocate for\, and serve adults navigating their mental health and well being.
LOCATION:1226 Washington Street\, Manitowoc\, WI 54220
UID:e.361.19004
SEQUENCE:3
DTSTAMP:20260419T121451Z
URL:https://business.chambermanitowoccounty.org/events/details/fall-festival-of-food-and-fellowship-19004
END:VEVENT

END:VCALENDAR
