BEGIN:VCALENDAR
VERSION:2.0
PRODID:-//ChamberMaster//Event Calendar 2.0//EN
METHOD:PUBLISH
X-PUBLISHED-TTL:P3D
REFRESH-INTERVAL:P3D
CALSCALE:GREGORIAN
BEGIN:VEVENT
DTSTART:20101215T002500Z
DTEND:20101215T010000Z
X-MICROSOFT-CDO-ALLDAYEVENT:FALSE
SUMMARY:Family Activity NIght
DESCRIPTION:Be a FAN of the library as parents and children participate together in a variety of activities including stories\, movies\, art and special guests.  December themes are: Dec 7 "Holly Jolly Kids" family story time\, Dec 14 "Jingle Bells"family story time\, Dec 21 "Wrap It Up" family story time
X-ALT-DESC;FMTTYPE=text/html:Be a FAN of the library as parents and children participate together in a variety of activities including stories\, movies\, art and special guests.  December themes are: Dec 7 "Holly Jolly Kids" family story time\, Dec 14 "Jingle Bells"family story time\, Dec 21 "Wrap It Up" family story time
LOCATION:Manitowoc Public Library
UID:e.361.3067
SEQUENCE:3
DTSTAMP:20260423T054439Z
URL:https://business.chambermanitowoccounty.org/events/details/family-activity-night-12-14-2010-3067
END:VEVENT

END:VCALENDAR
