BEGIN:VCALENDAR
VERSION:2.0
PRODID:-//ChamberMaster//Event Calendar 2.0//EN
METHOD:PUBLISH
X-PUBLISHED-TTL:P3D
REFRESH-INTERVAL:P3D
CALSCALE:GREGORIAN
BEGIN:VEVENT
DTSTART:20190317T200000Z
DTEND:20190317T220000Z
X-MICROSOFT-CDO-ALLDAYEVENT:FALSE
SUMMARY:Family Series: Rainbow Fish
DESCRIPTION:The Rainbow Fish will enchant even the youngest child with his silver scales and heart of gold in this award-winning book about the beautiful fish who learned to share his most prized possession. Mermaid Theatre of Nova Scotia brings The Rainbow Fish to life with their enchanting puppetry.
X-ALT-DESC;FMTTYPE=text/html:The Rainbow Fish will enchant even the youngest child with his silver scales and heart of gold in this award-winning book about the beautiful fish who learned to share his most prized possession. Mermaid Theatre of Nova Scotia brings The Rainbow Fish to life with their enchanting puppetry.
LOCATION:826 N 8th St\, Sheboygan
UID:e.361.13812
SEQUENCE:3
DTSTAMP:20260425T225421Z
URL:https://business.chambermanitowoccounty.org/events/details/family-series-rainbow-fish-13812
END:VEVENT

END:VCALENDAR
