BEGIN:VCALENDAR
VERSION:2.0
PRODID:-//ChamberMaster//Event Calendar 2.0//EN
METHOD:PUBLISH
X-PUBLISHED-TTL:P3D
REFRESH-INTERVAL:P3D
CALSCALE:GREGORIAN
BEGIN:VEVENT
DTSTART:20230822T223000Z
DTEND:20230822T233000Z
X-MICROSOFT-CDO-ALLDAYEVENT:FALSE
SUMMARY:Fiber Forum
DESCRIPTION:TDS is bringing fiber internet to communities across Wisconsin. Plymouth and Sheboygan have already completed their first installations of Fiber Optic internet. We are working to bring service to the City of Sheboygan\, Sheboygan Falls\, Plymouth\, Kohler\, and Manitowoc.\n\n \n\nTo learn a more about how this new technology can be used to save money and find efficiencies\, TDS is holding a Fiber Forum at Uptown Social in Sheboygan August 22. Bring your questions and learn more about the fiber optic build\, services\, and community impact.
X-ALT-DESC;FMTTYPE=text/html:<div>TDS is bringing fiber internet to communities across Wisconsin. Plymouth and Sheboygan have already completed their first installations of Fiber Optic internet. We are working to bring service to the City of Sheboygan\, Sheboygan Falls\, Plymouth\, Kohler\, and Manitowoc.<br />\n&nbsp\;</div>\n\n<div>To learn a more about how this new technology can be used to save money and find efficiencies\, TDS is holding a <strong>Fiber Forum at Uptown Social in Sheboygan August 22. </strong>Bring your questions and learn more about the fiber optic build\, services\, and community impact.&nbsp\;\n\n<div style="text-align:inherit">&nbsp\;</div>\n</div>\n
LOCATION:Uptown Social 1817 N 8th St Sheboygan\, WI 53081
UID:e.361.18953
SEQUENCE:3
DTSTAMP:20260419T130240Z
URL:https://business.chambermanitowoccounty.org/events/details/fiber-forum-18953
END:VEVENT

END:VCALENDAR
