BEGIN:VCALENDAR
VERSION:2.0
PRODID:-//ChamberMaster//Event Calendar 2.0//EN
METHOD:PUBLISH
X-PUBLISHED-TTL:P3D
REFRESH-INTERVAL:P3D
CALSCALE:GREGORIAN
BEGIN:VEVENT
DTSTART:20210818T150000Z
DTEND:20210818T173000Z
X-MICROSOFT-CDO-ALLDAYEVENT:FALSE
SUMMARY:Field Day & Farm Tour of Libertyland Farms Inc.
DESCRIPTION:From robotic milkers to new cropping practices\, take a walking tour of Libertyland Farms Inc. and learn about cutting-edge technologies and farming practices that help keep our water clean\, soil productive\, and farms sustainable. You'll enjoy FREE lunch and ice cream sundaes too! Register by August 10\, 2021. This event is hosted by the Manitowoc County Forage Council\, Lakeshore Natural Resources Partnership\, and Between the Lakes Demonstration Farm Network Follow the signs for parking.
X-ALT-DESC;FMTTYPE=text/html:From robotic milkers to new cropping practices\, take a walking tour of Libertyland Farms Inc. and learn about cutting-edge technologies and farming practices that help keep our water clean\, soil productive\, and farms sustainable. You&#39\;ll enjoy FREE lunch and ice cream sundaes too! Register by August 10\, 2021. This event is hosted by the Manitowoc County Forage Council\, Lakeshore Natural Resources Partnership\, and Between the Lakes Demonstration Farm Network Follow the signs for parking.
LOCATION:Libertyland Farms Inc. 11431 Newton Rd. Valders\, WI
UID:e.361.16459
SEQUENCE:3
DTSTAMP:20260424T121924Z
URL:https://business.chambermanitowoccounty.org/events/details/field-day-farm-tour-of-libertyland-farms-inc-16459
END:VEVENT

END:VCALENDAR
