BEGIN:VCALENDAR
VERSION:2.0
PRODID:-//ChamberMaster//Event Calendar 2.0//EN
METHOD:PUBLISH
X-PUBLISHED-TTL:P3D
REFRESH-INTERVAL:P3D
CALSCALE:GREGORIAN
BEGIN:VEVENT
DTSTART:20191111T150000Z
DTEND:20191111T160000Z
X-MICROSOFT-CDO-ALLDAYEVENT:FALSE
SUMMARY:Find your Fit-Careers in Action Planning Meeting
DESCRIPTION:
X-ALT-DESC;FMTTYPE=text/html:
LOCATION:The Chamber 1515 Memorial Dr.\, Manitowoc
UID:e.361.14816
SEQUENCE:3
DTSTAMP:20260425T132034Z
URL:https://business.chambermanitowoccounty.org/events/details/find-your-fit-careers-in-action-planning-meeting-14816
END:VEVENT

END:VCALENDAR
