BEGIN:VCALENDAR
VERSION:2.0
PRODID:-//ChamberMaster//Event Calendar 2.0//EN
METHOD:PUBLISH
X-PUBLISHED-TTL:P3D
REFRESH-INTERVAL:P3D
CALSCALE:GREGORIAN
BEGIN:VEVENT
DTSTART:20190920T210000Z
DTEND:20190920T230000Z
X-MICROSOFT-CDO-ALLDAYEVENT:FALSE
SUMMARY:Fish Boil
DESCRIPTION:Enjoy tender white fish\, red potatoes\, carrots & onions\, bread & butter\, water & lemonade. Beer\, soda\, milk\, coffee will be available for purchase. $8.00 in advance (at the Two Rivers Senior Center Mon-Fri 8:00 am - 4:30 pm). $9.00 at the door $5.00 for kids 5 and under Cash or Check only please Music by Until Dawn 50/50 Raffle Bake Sale
X-ALT-DESC;FMTTYPE=text/html:Enjoy tender white fish\, red potatoes\, carrots &amp\; onions\, bread &amp\; butter\, water &amp\; lemonade. Beer\, soda\, milk\, coffee will be available for purchase. $8.00 in advance (at the Two Rivers Senior Center Mon-Fri 8:00 am - 4:30 pm). $9.00 at the door $5.00 for kids 5 and under Cash or Check only please Music by Until Dawn 50/50 Raffle Bake Sale
LOCATION:Two Rivers Community House Gymnasium
UID:e.361.14475
SEQUENCE:3
DTSTAMP:20260425T154926Z
URL:https://business.chambermanitowoccounty.org/events/details/fish-boil-09-20-2019-14475
END:VEVENT

END:VCALENDAR
