BEGIN:VCALENDAR
VERSION:2.0
PRODID:-//ChamberMaster//Event Calendar 2.0//EN
METHOD:PUBLISH
X-PUBLISHED-TTL:P3D
REFRESH-INTERVAL:P3D
CALSCALE:GREGORIAN
BEGIN:VEVENT
DTSTART:20210129T183000Z
DTEND:20210129T223000Z
X-MICROSOFT-CDO-ALLDAYEVENT:FALSE
SUMMARY:Fleet Farm Manitowoc Blood Drive
DESCRIPTION:Fleet Farm Manitowoc Blood Drive 1235 S. Rapids Rd. Manitowoc\, WI 54220 Friday Jan. 29 12:30 - 4:30 p.m. To schedule your appointment\, visit www.communityblood.org. Search by Sponsor Code: OT72 or call The Community Blood Center at 800-280-4102. If you have any questions\, please contact Alexanna at 920-731-8121 x2528.
X-ALT-DESC;FMTTYPE=text/html:Fleet Farm Manitowoc Blood Drive 1235 S. Rapids Rd. Manitowoc\, WI 54220 Friday Jan. 29 12:30 - 4:30 p.m. To schedule your appointment\, visit www.communityblood.org. Search by Sponsor Code: OT72 or call The Community Blood Center at 800-280-4102. If you have any questions\, please contact Alexanna at 920-731-8121 x2528.
LOCATION:1235 S. Rapids Rd. Manitowoc\, WI 54220
UID:e.361.15887
SEQUENCE:3
DTSTAMP:20260424T201158Z
URL:https://business.chambermanitowoccounty.org/events/details/fleet-farm-manitowoc-blood-drive-01-29-2021-15887
END:VEVENT

END:VCALENDAR
