BEGIN:VCALENDAR
VERSION:2.0
PRODID:-//ChamberMaster//Event Calendar 2.0//EN
METHOD:PUBLISH
X-PUBLISHED-TTL:P3D
REFRESH-INTERVAL:P3D
CALSCALE:GREGORIAN
BEGIN:VEVENT
DTSTART:20210618T173000Z
DTEND:20210618T213000Z
X-MICROSOFT-CDO-ALLDAYEVENT:FALSE
SUMMARY:Fleet Farm Manitowoc Blood Drive
DESCRIPTION:To schedule your donation appointment\, please call (800) 280-4102. You may also visit communityblood.org/donor. Log in\, click ""Donate Now"" and search for Sponsor Code: OT72. If you have any questions\, please contact Alexanna at 920-731-8121 x2528.
X-ALT-DESC;FMTTYPE=text/html:To schedule your donation appointment\, please call (800) 280-4102. You may also visit communityblood.org/donor. Log in\, click &quot\;&quot\;Donate Now&quot\;&quot\; and search for Sponsor Code: OT72. If you have any questions\, please contact Alexanna at 920-731-8121 x2528.
LOCATION:1235 S Rapids Road Manitowoc\, WI 54220
UID:e.361.16347
SEQUENCE:3
DTSTAMP:20260424T134835Z
URL:https://business.chambermanitowoccounty.org/events/details/fleet-farm-manitowoc-blood-drive-06-18-2021-16347
END:VEVENT

END:VCALENDAR
