BEGIN:VCALENDAR
VERSION:2.0
PRODID:-//ChamberMaster//Event Calendar 2.0//EN
METHOD:PUBLISH
X-PUBLISHED-TTL:P3D
REFRESH-INTERVAL:P3D
CALSCALE:GREGORIAN
BEGIN:VEVENT
DTSTART:20201023T173000Z
DTEND:20201023T220000Z
X-MICROSOFT-CDO-ALLDAYEVENT:FALSE
SUMMARY:Fleet Farm Manitowoc Blood Drive
DESCRIPTION:Fleet Farm Manitowoc Blood Drive 1235 S Rapids Road Manitowoc\, WI 54220 Friday October 23 12:30 PM 5:00 PM "To schedule your appointment\, visit www.communityblood.org\, click on ""Donate""\, ""Locate A Blood Drive""\, enter OT72 as the Sponsor Code. If you have any questions\, please contact Jolene at 920-682-4403 x4. All Presenting Donors Will Receive a CBC T-Shirt."
X-ALT-DESC;FMTTYPE=text/html:Fleet Farm Manitowoc Blood Drive 1235 S Rapids Road Manitowoc\, WI 54220 Friday October 23 12:30 PM 5:00 PM &quot\;To schedule your appointment\, visit www.communityblood.org\, click on &quot\;&quot\;Donate&quot\;&quot\;\, &quot\;&quot\;Locate A Blood Drive&quot\;&quot\;\, enter OT72 as the Sponsor Code. If you have any questions\, please contact Jolene at 920-682-4403 x4. All Presenting Donors Will Receive a CBC T-Shirt.&quot\;
LOCATION:1235 S Rapids Road Manitowoc\, WI 54220
UID:e.361.15761
SEQUENCE:3
DTSTAMP:20260425T004844Z
URL:https://business.chambermanitowoccounty.org/events/details/fleet-farm-manitowoc-blood-drive-10-23-2020-15761
END:VEVENT

END:VCALENDAR
