BEGIN:VCALENDAR
VERSION:2.0
PRODID:-//ChamberMaster//Event Calendar 2.0//EN
METHOD:PUBLISH
X-PUBLISHED-TTL:P3D
REFRESH-INTERVAL:P3D
CALSCALE:GREGORIAN
BEGIN:VEVENT
DTSTART:20191015T230000Z
DTEND:20191016T000000Z
X-MICROSOFT-CDO-ALLDAYEVENT:FALSE
SUMMARY:Foster Parent Information Session
DESCRIPTION:There is a significant need for treatment foster parents to provide safe homes for our community's most vulnerable children. You can help. Be the one to make the difference for a very special child or teen! Join us for an Information Session and learn about how you can become a Foster Parent in your area.
X-ALT-DESC;FMTTYPE=text/html:There is a significant need for treatment foster parents to provide safe homes for our community&rsquo\;s most vulnerable children. You can help. Be the one to make the difference for a very special child or teen! Join us for an Information Session and learn about how you can become a Foster Parent in your area.
LOCATION:Manitowoc Public Library
UID:e.361.14801
SEQUENCE:3
DTSTAMP:20260425T143102Z
URL:https://business.chambermanitowoccounty.org/events/details/foster-parent-information-session-14801
END:VEVENT

END:VCALENDAR
