BEGIN:VCALENDAR
VERSION:2.0
PRODID:-//ChamberMaster//Event Calendar 2.0//EN
METHOD:PUBLISH
X-PUBLISHED-TTL:P3D
REFRESH-INTERVAL:P3D
CALSCALE:GREGORIAN
BEGIN:VEVENT
DTSTART:20190914T130000Z
DTEND:20190914T170000Z
X-MICROSOFT-CDO-ALLDAYEVENT:FALSE
SUMMARY:Fox's Pig to Pig Walk
DESCRIPTION:6 mile walk along scenic Lake Michigan. Refreshments\, Raffles\, Music & Fun. Brat fry at each location. $15.00 donation per person\, $30.00 per family (2-4 people)\, each additional person $5.00\, includes T-shirt. Contact Piggly Wiggly 920-682-4931 or 920-794-8931 for details or visit our face book page!
X-ALT-DESC;FMTTYPE=text/html:6 mile walk along scenic Lake Michigan. Refreshments\, Raffles\, Music &amp\; Fun. Brat fry at each location. $15.00 donation per person\, $30.00 per family (2-4 people)\, each additional person $5.00\, includes T-shirt. Contact Piggly Wiggly 920-682-4931 or 920-794-8931 for details or visit our face book page!
LOCATION:Piggly Wiggly in Manitowoc
UID:e.361.14468
SEQUENCE:3
DTSTAMP:20260425T154924Z
URL:https://business.chambermanitowoccounty.org/events/details/fox-s-pig-to-pig-walk-14468
END:VEVENT

END:VCALENDAR
