BEGIN:VCALENDAR
VERSION:2.0
PRODID:-//ChamberMaster//Event Calendar 2.0//EN
METHOD:PUBLISH
X-PUBLISHED-TTL:P3D
REFRESH-INTERVAL:P3D
CALSCALE:GREGORIAN
BEGIN:VEVENT
DTSTART:20260501T160000Z
DTEND:20260501T230000Z
X-MICROSOFT-CDO-ALLDAYEVENT:FALSE
SUMMARY:Friends of Manitowoc Public Library Brat Fry Fundraiser
DESCRIPTION:The sizzle of the grill. That mouth-watering aroma wafting through the air. 'Tis the season and resistance is futile!!! Support the Friends of Manitowoc Public Library by stopping by for a brat or two at Manitowoc's Festival Foods Brat Barn/Stand on Friday\, May 1\, from 11 AM to 6 PM. All proceeds will help the Friends fund MPL's Summer Reading Program!
X-ALT-DESC;FMTTYPE=text/html:<span style="font-family:times new roman\,serif"><span style="font-size:12.0pt">The sizzle of the grill. That mouth-watering aroma wafting through the air. &lsquo\;Tis the season and resistance is futile!!! Support the Friends of Manitowoc Public Library by stopping by for a brat or two at Manitowoc&rsquo\;s Festival Foods Brat Barn/Stand on Friday\, May 1\, from 11 AM to 6 PM. All proceeds will help the Friends fund MPL&rsquo\;s Summer Reading Program!</span></span>
LOCATION:Festival Foods 2151 S 42nd St Manitowoc\, WI 54220
UID:e.361.20810
SEQUENCE:3
DTSTAMP:20260423T182208Z
URL:https://business.chambermanitowoccounty.org/events/details/friends-of-manitowoc-public-library-brat-fry-fundraiser-20810
END:VEVENT

END:VCALENDAR
