BEGIN:VCALENDAR
VERSION:2.0
PRODID:-//ChamberMaster//Event Calendar 2.0//EN
METHOD:PUBLISH
X-PUBLISHED-TTL:P3D
REFRESH-INTERVAL:P3D
CALSCALE:GREGORIAN
BEGIN:VEVENT
DTSTART:20211127T020000Z
DTEND:20211127T040000Z
X-MICROSOFT-CDO-ALLDAYEVENT:FALSE
SUMMARY:Gabriel Sanchez Presents the Prince Experience
DESCRIPTION:Gabriel Sanchez fronts the country's most dynamic Prince Tribute Band\, THE PRINCE EXPERIENCE. Playing all of the greatest hits from the Purple One himself\, THE PRINCE EXPERIENCE has been packing dance floors and setting stages on fire for over ten years. Since 2002 Gabriel Sanchez has been portraying Prince in his critically acclaimed show The Prince Experience. What started off as a small local theatre production of Purple Rain\, has expanded into what has become a night of unbelievable entertainment\, that keeps anyone who has seen it\, talking long after the last encore is played.
X-ALT-DESC;FMTTYPE=text/html:Gabriel Sanchez fronts the country&#39\;s most dynamic Prince Tribute Band\, THE PRINCE EXPERIENCE. Playing all of the greatest hits from the Purple One himself\, THE PRINCE EXPERIENCE has been packing dance floors and setting stages on fire for over ten years. Since 2002 Gabriel Sanchez has been portraying Prince in his critically acclaimed show The Prince Experience. What started off as a small local theatre production of Purple Rain\, has expanded into what has become a night of unbelievable entertainment\, that keeps anyone who has seen it\, talking long after the last encore is played.
LOCATION:Weill Center
UID:e.361.16998
SEQUENCE:3
DTSTAMP:20260422T195029Z
URL:https://business.chambermanitowoccounty.org/events/details/gabriel-sanchez-presents-the-prince-experience-16998
END:VEVENT

END:VCALENDAR
